BEGIN:VCALENDAR
VERSION:2.0
PRODID:-//ID4me - ECPv5.6.0//NONSGML v1.0//EN
CALSCALE:GREGORIAN
METHOD:PUBLISH
X-WR-CALNAME:ID4me
X-ORIGINAL-URL:https://id4me.org
X-WR-CALDESC:Events for ID4me
BEGIN:VTIMEZONE
TZID:Europe/Berlin
BEGIN:DAYLIGHT
TZOFFSETFROM:+0100
TZOFFSETTO:+0200
TZNAME:CEST
DTSTART:20190331T010000
END:DAYLIGHT
BEGIN:STANDARD
TZOFFSETFROM:+0200
TZOFFSETTO:+0100
TZNAME:CET
DTSTART:20191027T010000
END:STANDARD
END:VTIMEZONE
BEGIN:VEVENT
DTSTART;VALUE=DATE:20191016
DTEND;VALUE=DATE:20191019
DTSTAMP:20260419T194821
CREATED:20190509T090304Z
LAST-MODIFIED:20191021T115214Z
UID:10668-1571184000-1571443199@id4me.org
SUMMARY:OX Summit 2019
DESCRIPTION:This year the 11th Open-Xchange Summit will take place in Spain’s Capital Madrid. The program not only allows you to get a flavor of Madrid but also provides a great opportunity to meet the Open-Xchange team\, senior management\, product experts and other delegates from the Hosting\, Cable Carrier and Telco world. From our team Rafael Laguna\, Katja Speck\, Vittorio Bertola and Marcos Sanz will be onsite.
URL:https://id4me.org/event/ox-summit-2019/
LOCATION:Palacio Neptuno\, Madrid\, Spain
END:VEVENT
END:VCALENDAR