BEGIN:VCALENDAR
VERSION:2.0
PRODID:-//ID4me - ECPv5.6.0//NONSGML v1.0//EN
CALSCALE:GREGORIAN
METHOD:PUBLISH
X-WR-CALNAME:ID4me
X-ORIGINAL-URL:https://id4me.org
X-WR-CALDESC:Events for ID4me
BEGIN:VTIMEZONE
TZID:Europe/Berlin
BEGIN:DAYLIGHT
TZOFFSETFROM:+0100
TZOFFSETTO:+0200
TZNAME:CEST
DTSTART:20190331T010000
END:DAYLIGHT
BEGIN:STANDARD
TZOFFSETFROM:+0200
TZOFFSETTO:+0100
TZNAME:CET
DTSTART:20191027T010000
END:STANDARD
END:VTIMEZONE
BEGIN:VEVENT
DTSTART;VALUE=DATE:20190624
DTEND;VALUE=DATE:20190628
DTSTAMP:20260421T115921
CREATED:20190508T073536Z
LAST-MODIFIED:20190509T092339Z
UID:10568-1561334400-1561679999@id4me.org
SUMMARY:ICANN65 | Policy Forum
DESCRIPTION:Take the chance and meet us at the ICANN65 in Marrakech\, Morocco. This four-day meeting is focused on current policy development work\, outreach\, and daily opportunities to network with the community.\n From our team Thomas Keller\, Dr. Jörg Schweiger\, Vittorio Bertola and Neal Mc Pherson will be onsite.\n        
URL:https://id4me.org/event/icann65-policy-forum/
LOCATION:Palmeraie Conference Center\, Marrakesh\, Morocco
END:VEVENT
END:VCALENDAR