BEGIN:VCALENDAR
VERSION:2.0
PRODID:-//ID4me - ECPv5.6.0//NONSGML v1.0//EN
CALSCALE:GREGORIAN
METHOD:PUBLISH
X-WR-CALNAME:ID4me
X-ORIGINAL-URL:https://id4me.org
X-WR-CALDESC:Events for ID4me
BEGIN:VTIMEZONE
TZID:Europe/Berlin
BEGIN:DAYLIGHT
TZOFFSETFROM:+0100
TZOFFSETTO:+0200
TZNAME:CEST
DTSTART:20190331T010000
END:DAYLIGHT
BEGIN:STANDARD
TZOFFSETFROM:+0200
TZOFFSETTO:+0100
TZNAME:CET
DTSTART:20191027T010000
END:STANDARD
END:VTIMEZONE
BEGIN:VEVENT
DTSTART;VALUE=DATE:20190619
DTEND;VALUE=DATE:20190621
DTSTAMP:20260421T231542
CREATED:20190506T112749Z
LAST-MODIFIED:20190509T092230Z
UID:10607-1560902400-1561075199@id4me.org
SUMMARY:EuroDIG 2019
DESCRIPTION:The next EuroDIG will take place in The Hague / The Netherlands from 19-20 June 2019. It will be hosted by the Ministry of Economic Affairs and Climate Policy of the Netherlands in cooperation with ECP – Netherlands Platform for the Information Society\, the Municipality of The Hague and SIDN – the .nl domain registry. The event venue will be the World Forum The Hague located between the city centre and the beach.\nTake the chance and meet us at the EuroDIG in The Hague\, Netherlands. From our team Dr. Jörg Schweiger will be onsite.
URL:https://id4me.org/event/eurodig-2019/
LOCATION:World Forum\, The Hague\, Belgium
END:VEVENT
END:VCALENDAR